﻿BEGIN:VCALENDAR
VERSION:2.0
PRODID:-//Canadian Spondyloarthritis Association - ECPv6.15.20//NONSGML v1.0//EN
CALSCALE:GREGORIAN
METHOD:PUBLISH
X-WR-CALNAME:Canadian Spondyloarthritis Association
X-ORIGINAL-URL:https://sparthritis.ca
X-WR-CALDESC:Events for Canadian Spondyloarthritis Association
REFRESH-INTERVAL;VALUE=DURATION:PT1H
X-Robots-Tag:noindex
X-PUBLISHED-TTL:PT1H
BEGIN:VTIMEZONE
TZID:America/New_York
BEGIN:DAYLIGHT
TZOFFSETFROM:-0500
TZOFFSETTO:-0400
TZNAME:EDT
DTSTART:20240310T070000
END:DAYLIGHT
BEGIN:STANDARD
TZOFFSETFROM:-0400
TZOFFSETTO:-0500
TZNAME:EST
DTSTART:20241103T060000
END:STANDARD
BEGIN:DAYLIGHT
TZOFFSETFROM:-0500
TZOFFSETTO:-0400
TZNAME:EDT
DTSTART:20250309T070000
END:DAYLIGHT
BEGIN:STANDARD
TZOFFSETFROM:-0400
TZOFFSETTO:-0500
TZNAME:EST
DTSTART:20251102T060000
END:STANDARD
BEGIN:DAYLIGHT
TZOFFSETFROM:-0500
TZOFFSETTO:-0400
TZNAME:EDT
DTSTART:20260308T070000
END:DAYLIGHT
BEGIN:STANDARD
TZOFFSETFROM:-0400
TZOFFSETTO:-0500
TZNAME:EST
DTSTART:20261101T060000
END:STANDARD
END:VTIMEZONE
BEGIN:VEVENT
DTSTART;TZID=America/New_York:20250119T110000
DTEND;TZID=America/New_York:20250119T170000
DTSTAMP:20260419T112154
CREATED:20250107T192957Z
LAST-MODIFIED:20250107T193534Z
UID:10000750-1737284400-1737306000@sparthritis.ca
SUMMARY:Montreal Support Group : In-person Meet-Up
DESCRIPTION:Join us for a welcoming and supportive meet-up for individuals living with spondyloarthritis in Montreal. This group provides a safe space to share experiences\, exchange tips on managing symptoms\, and connect with others who truly understand the challenges of living with this condition. Whether you’re newly diagnosed or have been living with spondyloarthritis for some time\, we invite you to come together\, find encouragement\, and build a supportive community.
URL:https://sparthritis.ca/event/montreal-support-group-meet-up/
LOCATION:Tim Hortons (Decarie Blvd)\, 7430 Decarie Blvd\, Montreal\, QC\, H4P 2N1\, Canada
CATEGORIES:Live Events
ATTACH;FMTTYPE=image/png:https://sparthritis.ca/wp-content/uploads/2023/03/Montreal.png
END:VEVENT
END:VCALENDAR